Workbook

Sheet Instructions

Sheet KS3 WS
A1: KEY STAGE 3 - Working scientifically
A2: Through the content across all three disciplines, pupils should be taught to: | C2: Pre- course | D2: AP2 | E2: AP4 | F2: AP6 | G2: Pedagogical content knowledge, including misconceptions and teaching strategies to elicit and address them
A3: Scientific attitudes
A4: pay attention to objectivity and concern for accuracy, precision, repeatability and reproducibility | B4: =LOOKUP(C4,LOOKUP!$A$1:$A$4,LOOKUP!$B$1:$B$4) -> My understanding is sufficient for teaching the basics. | C4: 2 | G4: Examples: Misconception that all scientific knowledge is totally objective and true. Teaching strategy: Explore historical examples where major shifts in understanding has occured E.g. geo to heliocentric model of solar system; structure of the atom; inheritance of characteristics; nutrition. Resource: http://assessment.aaas.org/pages/home (excellent resource PCK and for probing and addressing misconceptions)
A5: understand that scientific methods and theories develop as earlier explanations are modified to take account of new evidence and ideas, together with the importance of publishing results and peer review | B5: =LOOKUP(C5,LOOKUP!$A$1:$A$4,LOOKUP!$B$1:$B$4) -> This is a strong area for me and I could teach it at a high level. | C5: 3
A6: evaluate risks | B6: =LOOKUP(C6,LOOKUP!$A$1:$A$4,LOOKUP!$B$1:$B$4) -> I have some understanding but may need to consolidate. | C6: 1
A7: Experimental skills and investigations
A8: ask questions and develop a line of enquiry based on observations of the real world, alongside prior knowledge and experience | B8: =LOOKUP(C8,LOOKUP!$A$1:$A$4,LOOKUP!$B$1:$B$4) -> I need to study this thoroughly before teaching this topic.
A9: make predictions using scientific knowledge and understanding | B9: =LOOKUP(C9,LOOKUP!$A$1:$A$4,LOOKUP!$B$1:$B$4) -> I need to study this thoroughly before teaching this topic.
A10: select, plan and carry out the most appropriate types of scientific enquiries to test predictions, including identifying independent, dependent and control variables, where appropriate | B10: =LOOKUP(C10,LOOKUP!$A$1:$A$4,LOOKUP!$B$1:$B$4) -> I need to study this thoroughly before teaching this topic.
A11: use appropriate techniques, apparatus, and materials during fieldwork and laboratory work, paying attention to health and safety | B11: =LOOKUP(C11,LOOKUP!$A$1:$A$4,LOOKUP!$B$1:$B$4) -> I need to study this thoroughly before teaching this topic.
A12: make and record observations and measurements using a range of methods for different investigations; and evaluate the reliability of methods and suggest possible improvements | B12: =LOOKUP(C12,LOOKUP!$A$1:$A$4,LOOKUP!$B$1:$B$4) -> I need to study this thoroughly before teaching this topic.
A13: apply sampling techniques | B13: =LOOKUP(C13,LOOKUP!$A$1:$A$4,LOOKUP!$B$1:$B$4) -> I need to study this thoroughly before teaching this topic.
A14: Analysis and evaluation
A15: apply mathematical concepts and calculate results | B15: =LOOKUP(C15,LOOKUP!$A$1:$A$4,LOOKUP!$B$1:$B$4) -> I need to study this thoroughly before teaching this topic.
A16: present observations and data using appropriate methods, including tables and graphs | B16: =LOOKUP(C16,LOOKUP!$A$1:$A$4,LOOKUP!$B$1:$B$4) -> I need to study this thoroughly before teaching this topic.
A17: interpret observations and data, including identifying patterns and using observations, measurements and data to draw conclusions | B17: =LOOKUP(C17,LOOKUP!$A$1:$A$4,LOOKUP!$B$1:$B$4) -> I need to study this thoroughly before teaching this topic.
A18: present reasoned explanations, including explaining data in relation to predictions and hypotheses | B18: =LOOKUP(C18,LOOKUP!$A$1:$A$4,LOOKUP!$B$1:$B$4) -> I need to study this thoroughly before teaching this topic.
A19: evaluate data, showing awareness of potential sources of random and systematic error | B19: =LOOKUP(C19,LOOKUP!$A$1:$A$4,LOOKUP!$B$1:$B$4) -> I need to study this thoroughly before teaching this topic.
A20: identify further questions arising from their results | B20: =LOOKUP(C20,LOOKUP!$A$1:$A$4,LOOKUP!$B$1:$B$4) -> I need to study this thoroughly before teaching this topic.
A21: Measurement
A22: understand and use SI units and IUPAC (International Union of Pure and Applied Chemistry) chemical nomenclature | B22: =LOOKUP(C22,LOOKUP!$A$1:$A$4,LOOKUP!$B$1:$B$4) -> I need to study this thoroughly before teaching this topic.
A23: use and derive simple equations and carry out appropriate calculations | B23: =LOOKUP(C23,LOOKUP!$A$1:$A$4,LOOKUP!$B$1:$B$4) -> I need to study this thoroughly before teaching this topic.
A24: undertake basic data analysis including simple statistical techniques | B24: =LOOKUP(C24,LOOKUP!$A$1:$A$4,LOOKUP!$B$1:$B$4) -> I need to study this thoroughly before teaching this topic.

Sheet LOOKUP
A1: 0 | B1: I need to study this thoroughly before teaching this topic.
A2: 1 | B2: I have some understanding but may need to consolidate.
A3: 2 | B3: My understanding is sufficient for teaching the basics.
A4: 3 | B4: This is a strong area for me and I could teach it at a high level.

Sheet KS3 Bio 
A1: KEY STAGE 3 - Biology
A2: Pupils should be taught about: | B2: Subject Knowledge Do you understand this? | C2: Pre- course | D2: AP2 | E2: AP4 | F2: AP6 | G2: Pedagogical content knowledge, including misconceptions and teaching strategies to elicit and address them
A3: Structure and function of living organisms - cells and organisation
A4: cells as the fundamental unit of living organisms, including how to observe, interpret and record cell structure using a light microscope | B4: =LOOKUP(C4,LOOKUP!$A$1:$A$4,LOOKUP!$B$1:$B$4) -> I need to study this thoroughly before teaching this topic.
A5: the functions of the cell wall, cell membrane, cytoplasm, nucleus, vacuole, mitochondria and chloroplasts | B5: =LOOKUP(C5,LOOKUP!$A$1:$A$4,LOOKUP!$B$1:$B$4) -> I need to study this thoroughly before teaching this topic.
A6: the similarities and differences between plant and animal cells | B6: =LOOKUP(C6,LOOKUP!$A$1:$A$4,LOOKUP!$B$1:$B$4) -> I need to study this thoroughly before teaching this topic.
A7: the role of diffusion in the movement of materials in and between cells | B7: =LOOKUP(C7,LOOKUP!$A$1:$A$4,LOOKUP!$B$1:$B$4) -> I need to study this thoroughly before teaching this topic.
A8: the structural adaptations of some unicellular organisms | B8: =LOOKUP(C8,LOOKUP!$A$1:$A$4,LOOKUP!$B$1:$B$4) -> I need to study this thoroughly before teaching this topic.
A9: the hierarchical organisation of multicellular organisms: from cells to tissues to organs to systems to organisms | B9: =LOOKUP(C9,LOOKUP!$A$1:$A$4,LOOKUP!$B$1:$B$4) -> I need to study this thoroughly before teaching this topic.
A10: Structure and function of living organisms - the skeletal and muscular systems
A11: the structure and functions of the human skeleton, to include support, protection, movement and making blood cells | B11: =LOOKUP(C11,LOOKUP!$A$1:$A$4,LOOKUP!$B$1:$B$4) -> I need to study this thoroughly before teaching this topic.
A12: biomechanics - the interaction between skeleton and muscles, including the measurement of force exerted by different muscles | B12: =LOOKUP(C12,LOOKUP!$A$1:$A$4,LOOKUP!$B$1:$B$4) -> I need to study this thoroughly before teaching this topic.
A13: the function of muscles and examples of antagonistic muscles | B13: =LOOKUP(C13,LOOKUP!$A$1:$A$4,LOOKUP!$B$1:$B$4) -> I need to study this thoroughly before teaching this topic.
A14: Structure and function of living organisms - nutrition and digestion
A15: content of a healthy human diet: carbohydrates, lipids (fats and oils), proteins, vitamins, minerals, dietary fibre and water, and why each is needed | B15: =LOOKUP(C15,LOOKUP!$A$1:$A$4,LOOKUP!$B$1:$B$4) -> I need to study this thoroughly before teaching this topic.
A16: calculations of energy requirements in a healthy daily diet | B16: =LOOKUP(C16,LOOKUP!$A$1:$A$4,LOOKUP!$B$1:$B$4) -> I need to study this thoroughly before teaching this topic.
A17: the consequences of imbalances in the diet, including obesity, starvation and deficiency diseases | B17: =LOOKUP(C17,LOOKUP!$A$1:$A$4,LOOKUP!$B$1:$B$4) -> I need to study this thoroughly before teaching this topic.
A18: the tissues and organs of the human digestive system, including adaptations to function and how the digestive system digests food (enzymes simply as biological catalysts) | B18: =LOOKUP(C18,LOOKUP!$A$1:$A$4,LOOKUP!$B$1:$B$4) -> I need to study this thoroughly before teaching this topic.
A19: the importance of bacteria in the human digestive system | B19: =LOOKUP(C19,LOOKUP!$A$1:$A$4,LOOKUP!$B$1:$B$4) -> I need to study this thoroughly before teaching this topic.
A20: plants making carbohydrates in their leaves by photosynthesis and gaining mineral nutrients and water from the soil via their roots | B20: =LOOKUP(C20,LOOKUP!$A$1:$A$4,LOOKUP!$B$1:$B$4) -> I need to study this thoroughly before teaching this topic.
A21: Structure and function of living organisms - gas exchange systems
A22: the structure and functions of the gas exchange system in humans, including adaptations to function | B22: =LOOKUP(C22,LOOKUP!$A$1:$A$4,LOOKUP!$B$1:$B$4) -> I need to study this thoroughly before teaching this topic.
A23: the mechanism of breathing to move air in and out of the lungs, using a pressure model to explain the movement of gases, including simple measurements of lung volume | B23: =LOOKUP(C23,LOOKUP!$A$1:$A$4,LOOKUP!$B$1:$B$4) -> I need to study this thoroughly before teaching this topic.
A24: the impact of exercise, asthma and smoking on the human gas exchange system | B24: =LOOKUP(C24,LOOKUP!$A$1:$A$4,LOOKUP!$B$1:$B$4) -> I need to study this thoroughly before teaching this topic.
A25: the role of leaf stomata in gas exchange in plants | B25: =LOOKUP(C25,LOOKUP!$A$1:$A$4,LOOKUP!$B$1:$B$4) -> I need to study this thoroughly before teaching this topic.
A26: Structure and function of living organisms - reproduction
A27: reproduction in humans (as an example of a mammal), including the structure and function of the male and female reproductive systems, menstrual cycle (without details of hormones), gametes, fertilisation, gestation and birth, to include the effect of maternal lifestyle on the foetus through the placenta | B27: =LOOKUP(C27,LOOKUP!$A$1:$A$4,LOOKUP!$B$1:$B$4) -> I need to study this thoroughly before teaching this topic.
A28: reproduction in plants, including flower structure, wind and insect pollination, fertilisation, seed and fruit formation and dispersal, including quantitative investigation of some dispersal mechanisms | B28: =LOOKUP(C28,LOOKUP!$A$1:$A$4,LOOKUP!$B$1:$B$4) -> I need to study this thoroughly before teaching this topic.
A29: Structure and function of living organisms - health
A30: the effects of recreational drugs (including substance misuse) on behaviour, health and life processes | B30: =LOOKUP(C30,LOOKUP!$A$1:$A$4,LOOKUP!$B$1:$B$4) -> I need to study this thoroughly before teaching this topic.
A31: Material cycles and energy - photosynthesis
A32: the reactants in, and products of, photosynthesis, and a word summary for photosynthesis | B32: =LOOKUP(C32,LOOKUP!$A$1:$A$4,LOOKUP!$B$1:$B$4) -> I need to study this thoroughly before teaching this topic.
A33: the dependence of almost all life on Earth on the ability of photosynthetic organisms, such as plants and algae, to use sunlight in photosynthesis to build organic molecules that are an essential energy store and to maintain levels of oxygen and carbon dioxide in the atmosphere | B33: =LOOKUP(C33,LOOKUP!$A$1:$A$4,LOOKUP!$B$1:$B$4) -> I need to study this thoroughly before teaching this topic.
A34: the adaptations of leaves for photosynthesis | B34: =LOOKUP(C34,LOOKUP!$A$1:$A$4,LOOKUP!$B$1:$B$4) -> I need to study this thoroughly before teaching this topic.
A35: Material cycles and energy - cellular respiration
A36: aerobic and anaerobic respiration in living organisms, including the breakdown of organic molecules to enable all the other chemical processes necessary for life | B36: =LOOKUP(C36,LOOKUP!$A$1:$A$4,LOOKUP!$B$1:$B$4) -> I need to study this thoroughly before teaching this topic.
A37: a word summary for aerobic respiration | B37: =LOOKUP(C37,LOOKUP!$A$1:$A$4,LOOKUP!$B$1:$B$4) -> I need to study this thoroughly before teaching this topic.
A38: the process of anaerobic respiration in humans and micro-organisms, including fermentation, and a word summary for anaerobic respiration | B38: =LOOKUP(C38,LOOKUP!$A$1:$A$4,LOOKUP!$B$1:$B$4) -> I need to study this thoroughly before teaching this topic.
A39: the differences between aerobic and anaerobic respiration in terms of the reactants, the products formed and the implications for the organism | B39: =LOOKUP(C39,LOOKUP!$A$1:$A$4,LOOKUP!$B$1:$B$4) -> I need to study this thoroughly before teaching this topic.
A40: Interactions and interdependencies - relationships in an ecosystem
...

Sheet KS3 Chem
A1: KEY STAGE 3 - Chemistry
A2: Pupils should be taught about: | B2: Subject Knowledge Do you understand this? | C2: Pre- course | D2: AP2 | E2: AP4 | F2: AP6 | G2: Pedagogical content knowledge, including misconceptions and teaching strategies to elicit and address them
A3: The particulate nature of matter
A4: the properties of the different states of matter (solid, liquid and gas) in terms of the particle model, including gas pressure | B4: =LOOKUP(C4,LOOKUP!$A$1:$A$4,LOOKUP!$B$1:$B$4) -> I need to study this thoroughly before teaching this topic.
A5: changes of state in terms of the particle model | B5: =LOOKUP(C5,LOOKUP!$A$1:$A$4,LOOKUP!$B$1:$B$4) -> I need to study this thoroughly before teaching this topic.
A6: Atoms, elements and compounds
A7: a simple (Dalton) atomic model | B7: =LOOKUP(C7,LOOKUP!$A$1:$A$4,LOOKUP!$B$1:$B$4) -> I need to study this thoroughly before teaching this topic.
A8: differences between atoms, elements and compounds | B8: =LOOKUP(C8,LOOKUP!$A$1:$A$4,LOOKUP!$B$1:$B$4) -> I need to study this thoroughly before teaching this topic.
A9: chemical symbols and formulae for elements and compounds | B9: =LOOKUP(C9,LOOKUP!$A$1:$A$4,LOOKUP!$B$1:$B$4) -> I need to study this thoroughly before teaching this topic.
A10: conservation of mass changes of state and chemical reactions | B10: =LOOKUP(C10,LOOKUP!$A$1:$A$4,LOOKUP!$B$1:$B$4) -> I need to study this thoroughly before teaching this topic.
A11: Pure and impure substances
A12: the concept of a pure substance | B12: =LOOKUP(C12,LOOKUP!$A$1:$A$4,LOOKUP!$B$1:$B$4) -> I need to study this thoroughly before teaching this topic.
A13: mixtures, including dissolving | B13: =LOOKUP(C13,LOOKUP!$A$1:$A$4,LOOKUP!$B$1:$B$4) -> I need to study this thoroughly before teaching this topic.
A14: diffusion in terms of the particle model | B14: =LOOKUP(C14,LOOKUP!$A$1:$A$4,LOOKUP!$B$1:$B$4) -> I need to study this thoroughly before teaching this topic.
A15: simple techniques for separating mixtures: filtration, evaporation, distillation and chromatography | B15: =LOOKUP(C15,LOOKUP!$A$1:$A$4,LOOKUP!$B$1:$B$4) -> I need to study this thoroughly before teaching this topic.
A16: the identification of pure substances | B16: =LOOKUP(C16,LOOKUP!$A$1:$A$4,LOOKUP!$B$1:$B$4) -> I need to study this thoroughly before teaching this topic.
A17: Chemical reactions
A18: chemical reactions as the rearrangement of atoms | B18: =LOOKUP(C18,LOOKUP!$A$1:$A$4,LOOKUP!$B$1:$B$4) -> I need to study this thoroughly before teaching this topic.
A19: representing chemical reactions using formulae and using equations | B19: =LOOKUP(C19,LOOKUP!$A$1:$A$4,LOOKUP!$B$1:$B$4) -> I need to study this thoroughly before teaching this topic.
A20: combustion, thermal decomposition, oxidation and displacement reactions | B20: =LOOKUP(C20,LOOKUP!$A$1:$A$4,LOOKUP!$B$1:$B$4) -> I need to study this thoroughly before teaching this topic.
A21: defining acids and alkalis in terms of neutralisation reactions | B21: =LOOKUP(C21,LOOKUP!$A$1:$A$4,LOOKUP!$B$1:$B$4) -> I need to study this thoroughly before teaching this topic.
A22: the pH scale for measuring acidity/alkalinity; and indicators | B22: =LOOKUP(C22,LOOKUP!$A$1:$A$4,LOOKUP!$B$1:$B$4) -> I need to study this thoroughly before teaching this topic.
A23: reactions of acids with metals to produce a salt plus hydrogen | B23: =LOOKUP(C23,LOOKUP!$A$1:$A$4,LOOKUP!$B$1:$B$4) -> I need to study this thoroughly before teaching this topic.
A24: reactions of acids with alkalis to produce a salt plus water | B24: =LOOKUP(C24,LOOKUP!$A$1:$A$4,LOOKUP!$B$1:$B$4) -> I need to study this thoroughly before teaching this topic.
A25: what catalysts do | B25: =LOOKUP(C25,LOOKUP!$A$1:$A$4,LOOKUP!$B$1:$B$4) -> I need to study this thoroughly before teaching this topic.
A26: Energetics
A27: energy changes on changes of state (qualitative) | B27: =LOOKUP(C27,LOOKUP!$A$1:$A$4,LOOKUP!$B$1:$B$4) -> I need to study this thoroughly before teaching this topic.
A28: exothermic and endothermic chemical reactions (qualitative) | B28: =LOOKUP(C28,LOOKUP!$A$1:$A$4,LOOKUP!$B$1:$B$4) -> I need to study this thoroughly before teaching this topic.
A29: The Periodic Table
A30: the varying physical and chemical properties of different elements | B30: =LOOKUP(C30,LOOKUP!$A$1:$A$4,LOOKUP!$B$1:$B$4) -> I need to study this thoroughly before teaching this topic.
A31: the principles underpinning the Mendeleev Periodic Table | B31: =LOOKUP(C31,LOOKUP!$A$1:$A$4,LOOKUP!$B$1:$B$4) -> I need to study this thoroughly before teaching this topic.
A32: the Periodic Table: periods and groups; metals and non-metals | B32: =LOOKUP(C32,LOOKUP!$A$1:$A$4,LOOKUP!$B$1:$B$4) -> I need to study this thoroughly before teaching this topic.
A33: how patterns in reactions can be predicted with reference to the Periodic Table | B33: =LOOKUP(C33,LOOKUP!$A$1:$A$4,LOOKUP!$B$1:$B$4) -> I need to study this thoroughly before teaching this topic.
A34: the properties of metals and non-metals | B34: =LOOKUP(C34,LOOKUP!$A$1:$A$4,LOOKUP!$B$1:$B$4) -> I need to study this thoroughly before teaching this topic.
A35: the chemical properties of metal and non-metal oxides with respect to acidity | B35: =LOOKUP(C35,LOOKUP!$A$1:$A$4,LOOKUP!$B$1:$B$4) -> I need to study this thoroughly before teaching this topic.
A36: Materials
A37: the order of metals and carbon in the reactivity series | B37: =LOOKUP(C37,LOOKUP!$A$1:$A$4,LOOKUP!$B$1:$B$4) -> I need to study this thoroughly before teaching this topic.
A38: the use of carbon in obtaining metals from metal oxides | B38: =LOOKUP(C38,LOOKUP!$A$1:$A$4,LOOKUP!$B$1:$B$4) -> I need to study this thoroughly before teaching this topic.
A39: properties of ceramics, polymers and composites (qualitative) | B39: =LOOKUP(C39,LOOKUP!$A$1:$A$4,LOOKUP!$B$1:$B$4) -> I need to study this thoroughly before teaching this topic.
A40: Earth and atmosphere
...

Sheet KS3 Phys
A1: KEY STAGE 3 - Physics
A2: Pupils should be taught about: | B2: Subject Knowledge Do you understand this? | C2: Pre- course | D2: AP2 | E2: AP4 | F2: AP6 | G2: Pedagogical content knowledge, including misconceptions and teaching strategies to elicit and address them
A3: Energy - calculation of fuel uses and costs in the domestic context
A4: comparing energy values of different foods (from labels) (kJ) | B4: =LOOKUP(C4,LOOKUP!$A$1:$A$4,LOOKUP!$B$1:$B$4) -> I need to study this thoroughly before teaching this topic.
A5: comparing power ratings of appliances in watts (W, kW) | B5: =LOOKUP(C5,LOOKUP!$A$1:$A$4,LOOKUP!$B$1:$B$4) -> I need to study this thoroughly before teaching this topic.
A6: comparing amounts of energy transferred (J, kJ, kW hour) | B6: =LOOKUP(C6,LOOKUP!$A$1:$A$4,LOOKUP!$B$1:$B$4) -> I need to study this thoroughly before teaching this topic.
A7: domestic fuel bills, fuel use and costs | B7: =LOOKUP(C7,LOOKUP!$A$1:$A$4,LOOKUP!$B$1:$B$4) -> I need to study this thoroughly before teaching this topic.
A8: fuels and energy resources | B8: =LOOKUP(C8,LOOKUP!$A$1:$A$4,LOOKUP!$B$1:$B$4) -> I need to study this thoroughly before teaching this topic.
A9: Energy - energy changes and transfers
A10: simple machines give bigger force but at the expense of smaller movement (and vice versa): product of force and displacement unchanged | B10: =LOOKUP(C10,LOOKUP!$A$1:$A$4,LOOKUP!$B$1:$B$4) -> I need to study this thoroughly before teaching this topic.
A11: heating and thermal equilibrium: temperature difference between two objects leading to energy transfer from the hotter to the cooler one, through contact (conduction) or radiation; such transfers tending to reduce the temperature difference: use of insulators | B11: =LOOKUP(C11,LOOKUP!$A$1:$A$4,LOOKUP!$B$1:$B$4) -> I need to study this thoroughly before teaching this topic.
A12: other processes that involve energy transfer: changing motion, dropping an object, completing an electrical circuit, stretching a spring, metabolism of food, burning fuels | B12: =LOOKUP(C12,LOOKUP!$A$1:$A$4,LOOKUP!$B$1:$B$4) -> I need to study this thoroughly before teaching this topic.
A13: Energy - changes in systems
A14: energy as a quantity that can be quantified and calculated; the total energy has the same value before and after a change | B14: =LOOKUP(C14,LOOKUP!$A$1:$A$4,LOOKUP!$B$1:$B$4) -> I need to study this thoroughly before teaching this topic.
A15: comparing the starting with the final conditions of a system and describing increases and decreases in the amounts of energy associated with movements, temperatures, changes in positions in a field, in elastic distortions and in chemical compositions | B15: =LOOKUP(C15,LOOKUP!$A$1:$A$4,LOOKUP!$B$1:$B$4) -> I need to study this thoroughly before teaching this topic.
A16: using physical processes and mechanisms, rather than energy, to explain the intermediate steps that bring about such changes | B16: =LOOKUP(C16,LOOKUP!$A$1:$A$4,LOOKUP!$B$1:$B$4) -> I need to study this thoroughly before teaching this topic.
A17: Motion and forces - describing motion
A18: speed and the quantitative relationship between average speed, distance and time (speed = distance ÷ time) | B18: =LOOKUP(C18,LOOKUP!$A$1:$A$4,LOOKUP!$B$1:$B$4) -> I need to study this thoroughly before teaching this topic.
A19: the representation of a journey on a distance-time graph | B19: =LOOKUP(C19,LOOKUP!$A$1:$A$4,LOOKUP!$B$1:$B$4) -> I need to study this thoroughly before teaching this topic.
A20: relative motion: trains and cars passing one another | B20: =LOOKUP(C20,LOOKUP!$A$1:$A$4,LOOKUP!$B$1:$B$4) -> I need to study this thoroughly before teaching this topic.
A21: Motion and forces - forces
A22: forces as pushes or pulls, arising from the interaction between two objects | B22: =LOOKUP(C22,LOOKUP!$A$1:$A$4,LOOKUP!$B$1:$B$4) -> I need to study this thoroughly before teaching this topic.
A23: using force arrows in diagrams, adding forces in one dimension, balanced and unbalanced forces | B23: =LOOKUP(C23,LOOKUP!$A$1:$A$4,LOOKUP!$B$1:$B$4) -> I need to study this thoroughly before teaching this topic.
A24: moment as the turning effect of a force | B24: =LOOKUP(C24,LOOKUP!$A$1:$A$4,LOOKUP!$B$1:$B$4) -> I need to study this thoroughly before teaching this topic.
A25: forces: associated with deforming objects; stretching and squashing - springs; with rubbing and friction between surfaces, with pushing things out of the way; resistance to motion of air and water | B25: =LOOKUP(C25,LOOKUP!$A$1:$A$4,LOOKUP!$B$1:$B$4) -> I need to study this thoroughly before teaching this topic.
A26: forces measured in newtons, measurements of stretch or compression as force is changed | B26: =LOOKUP(C26,LOOKUP!$A$1:$A$4,LOOKUP!$B$1:$B$4) -> I need to study this thoroughly before teaching this topic.
A27: force-extension linear relation; Hooke's Law as a special case | B27: =LOOKUP(C27,LOOKUP!$A$1:$A$4,LOOKUP!$B$1:$B$4) -> I need to study this thoroughly before teaching this topic.
A28: work done and energy changes on deformation | B28: =LOOKUP(C28,LOOKUP!$A$1:$A$4,LOOKUP!$B$1:$B$4) -> I need to study this thoroughly before teaching this topic.
A29: non-contact forces: gravity forces acting at a distance on Earth and in space, forces between magnets and forces due to static electricity | B29: =LOOKUP(C29,LOOKUP!$A$1:$A$4,LOOKUP!$B$1:$B$4) -> I need to study this thoroughly before teaching this topic.
A30: Motion and forces - pressure in fluids
A31: atmospheric pressure, decreases with increase of height as weight of air above decreases with height | B31: =LOOKUP(C31,LOOKUP!$A$1:$A$4,LOOKUP!$B$1:$B$4) -> I need to study this thoroughly before teaching this topic.
A32: pressure in liquids, increasing with depth; upthrust effects, floating and sinking | B32: =LOOKUP(C32,LOOKUP!$A$1:$A$4,LOOKUP!$B$1:$B$4) -> I need to study this thoroughly before teaching this topic.
A33: pressure measured by ratio of force over area - acting normal to any surface | B33: =LOOKUP(C33,LOOKUP!$A$1:$A$4,LOOKUP!$B$1:$B$4) -> I need to study this thoroughly before teaching this topic.
A34: Motion and forces - balanced forces
A35: opposing forces and equilibrium: weight held by stretched spring or supported on a compressed surface | B35: =LOOKUP(C35,LOOKUP!$A$1:$A$4,LOOKUP!$B$1:$B$4) -> I need to study this thoroughly before teaching this topic.
A36: Motion and forces - forces and motion
A37: forces being needed to cause objects to stop or start moving, or to change their speed or direction of motion (qualitative only) | B37: =LOOKUP(C37,LOOKUP!$A$1:$A$4,LOOKUP!$B$1:$B$4) -> I need to study this thoroughly before teaching this topic.
A38: change depending on direction of force and its size | B38: =LOOKUP(C38,LOOKUP!$A$1:$A$4,LOOKUP!$B$1:$B$4) -> I need to study this thoroughly before teaching this topic.
A39: Waves - observed waves
A40: waves on water as undulations which travel through water with transverse motion; these waves can be reflected, and add or cancel – superposition | B40: =LOOKUP(C40,LOOKUP!$A$1:$A$4,LOOKUP!$B$1:$B$4) -> I need to study this thoroughly before teaching this topic.
...

Sheet KS4 WS
A1: KEY STAGE 4 - Working scientifically
A2: This section explains, with both general and subject-specific examples, the main ways in which working scientifically may be developed and assessed. | B2: Subject Knowledge Do you understand this? | C2: Pre- course | D2: AP2 | E2: AP4 | F2: AP6 | G2: Pedagogical content knowledge, including misconceptions and teaching strategies to elicit and address them
A3: Development of scientific thinking
A4: understand how scientific methods and theories develop over time | B4: =LOOKUP(C4,LOOKUP!$A$1:$A$4,LOOKUP!$B$1:$B$4) -> I need to study this thoroughly before teaching this topic.
A5: use a variety of models such as representational, spatial, descriptive, computational and mathematical to solve problems, make predictions and to develop scientific explanations and understanding of familiar and unfamiliar facts | B5: =LOOKUP(C5,LOOKUP!$A$1:$A$4,LOOKUP!$B$1:$B$4) -> I need to study this thoroughly before teaching this topic.
A6: appreciate the power and limitations of science and consider any ethical issues which may arise | B6: =LOOKUP(C6,LOOKUP!$A$1:$A$4,LOOKUP!$B$1:$B$4) -> I need to study this thoroughly before teaching this topic.
A7: explain everyday and technological applications of science; evaluate associated personal, social, economic and environmental implications; and make decisions based on the evaluation of evidence and arguments | B7: =LOOKUP(C7,LOOKUP!$A$1:$A$4,LOOKUP!$B$1:$B$4) -> I need to study this thoroughly before teaching this topic.
A8: evaluate risks both in practical science and the wider societal context, including perception of risk in relation to data and consequences | B8: =LOOKUP(C8,LOOKUP!$A$1:$A$4,LOOKUP!$B$1:$B$4) -> I need to study this thoroughly before teaching this topic.
A9: recognise the importance of peer review of results and of communicating results to a range of audiences | B9: =LOOKUP(C9,LOOKUP!$A$1:$A$4,LOOKUP!$B$1:$B$4) -> I need to study this thoroughly before teaching this topic.
A10: Experimental skill and strategies
A11: use scientific theories and explanations to develop hypotheses | B11: =LOOKUP(C11,LOOKUP!$A$1:$A$4,LOOKUP!$B$1:$B$4) -> I need to study this thoroughly before teaching this topic.
A12: plan experiments or devise procedures to make observations, produce or characterise a substance, test hypotheses, check data or explore phenomena | B12: =LOOKUP(C12,LOOKUP!$A$1:$A$4,LOOKUP!$B$1:$B$4) -> I need to study this thoroughly before teaching this topic.
A13: apply a knowledge of a range of techniques, instruments, apparatus, and materials to select those appropriate to the experiment | B13: =LOOKUP(C13,LOOKUP!$A$1:$A$4,LOOKUP!$B$1:$B$4) -> I need to study this thoroughly before teaching this topic.
A14: carry out experiments appropriately having due regard to the correct manipulation of apparatus, the accuracy of measurements and health and safety considerations | B14: =LOOKUP(C14,LOOKUP!$A$1:$A$4,LOOKUP!$B$1:$B$4) -> I need to study this thoroughly before teaching this topic.
A15: recognise when to apply a knowledge of sampling techniques to ensure any samples collected are representative | B15: =LOOKUP(C15,LOOKUP!$A$1:$A$4,LOOKUP!$B$1:$B$4) -> I need to study this thoroughly before teaching this topic.
A16: make and record observations and measurements using a range of apparatus and methods | B16: =LOOKUP(C16,LOOKUP!$A$1:$A$4,LOOKUP!$B$1:$B$4) -> I need to study this thoroughly before teaching this topic.
A17: evaluate methods and suggest possible improvements and further investigations | B17: =LOOKUP(C17,LOOKUP!$A$1:$A$4,LOOKUP!$B$1:$B$4) -> I need to study this thoroughly before teaching this topic.
A18: Analysis and evaluation - apply the cycle of collecting, presenting and analysing data, including:
A19: presenting observations and other data using appropriate methods | B19: =LOOKUP(C19,LOOKUP!$A$1:$A$4,LOOKUP!$B$1:$B$4) -> I need to study this thoroughly before teaching this topic.
A20: translating data from one form to another | B20: =LOOKUP(C20,LOOKUP!$A$1:$A$4,LOOKUP!$B$1:$B$4) -> I need to study this thoroughly before teaching this topic.
A21: carrying out and represent mathematical and statistical analysis | B21: =LOOKUP(C21,LOOKUP!$A$1:$A$4,LOOKUP!$B$1:$B$4) -> I need to study this thoroughly before teaching this topic.
A22: representing distributions of results and make estimations of uncertainty | B22: =LOOKUP(C22,LOOKUP!$A$1:$A$4,LOOKUP!$B$1:$B$4) -> I need to study this thoroughly before teaching this topic.
A23: interpreting observations and other data (presented in verbal, diagrammatic, graphical, symbolic or numerical form), including identifying patterns and trends, making inferences and drawing conclusions | B23: =LOOKUP(C23,LOOKUP!$A$1:$A$4,LOOKUP!$B$1:$B$4) -> I need to study this thoroughly before teaching this topic.
A24: presenting reasoned explanations including relating data to hypotheses | B24: =LOOKUP(C24,LOOKUP!$A$1:$A$4,LOOKUP!$B$1:$B$4) -> I need to study this thoroughly before teaching this topic.
A25: being objective, evaluating data in terms of accuracy, precision, repeatability and reproducibility and identifying potential sources of random and systematic error | B25: =LOOKUP(C25,LOOKUP!$A$1:$A$4,LOOKUP!$B$1:$B$4) -> I need to study this thoroughly before teaching this topic.
A26: communicating the scientific rationale for investigations, methods used, findings and reasoned conclusions through paper-based and electronic reports and presentations using verbal, diagrammatic, graphical, numerical and symbolic forms | B26: =LOOKUP(C26,LOOKUP!$A$1:$A$4,LOOKUP!$B$1:$B$4) -> I need to study this thoroughly before teaching this topic.
A27: Scientific vocabulary, quantities, units, symbols and nomenclature
A28: use scientific vocabulary, terminology and definitions | B28: =LOOKUP(C28,LOOKUP!$A$1:$A$4,LOOKUP!$B$1:$B$4) -> I need to study this thoroughly before teaching this topic.
A29: recognise the importance of scientific quantities and understand how they are determined | B29: =LOOKUP(C29,LOOKUP!$A$1:$A$4,LOOKUP!$B$1:$B$4) -> I need to study this thoroughly before teaching this topic.
A30: use SI units (e.g. kg, g, mg; km, m, mm; kJ, J) and IUPAC chemical nomenclature unless inappropriate | B30: =LOOKUP(C30,LOOKUP!$A$1:$A$4,LOOKUP!$B$1:$B$4) -> I need to study this thoroughly before teaching this topic.
A31: use prefixes and powers of ten for orders of magnitude (e.g. tera, giga, mega, kilo, centi, milli, micro and nano) | B31: =LOOKUP(C31,LOOKUP!$A$1:$A$4,LOOKUP!$B$1:$B$4) -> I need to study this thoroughly before teaching this topic.
A32: interconvert units | B32: =LOOKUP(C32,LOOKUP!$A$1:$A$4,LOOKUP!$B$1:$B$4) -> I need to study this thoroughly before teaching this topic.
A33: use an appropriate number of significant figures in calculation | B33: =LOOKUP(C33,LOOKUP!$A$1:$A$4,LOOKUP!$B$1:$B$4) -> I need to study this thoroughly before teaching this topic.

Sheet KS4 Bio
A1: KEY STAGE 4 - Biology
A2: GCSE biology specifications should require students to: | B2: Subject Knowledge Do you understand this? | C2: Pre- course | D2: AP2 | E2: AP4 | F2: AP6 | G2: Pedagogical content knowledge, including misconceptions and teaching strategies to elicit and address them
A3: Cell biology - prokaryotic and eukaryotic cells
A4: explain how the main sub-cellular structures of eukaryotic cells (plants and animals) and prokaryotic cells are related to their functions, including the nucleus/genetic material, plasmids, mitochondria, chloroplasts and cell membranes | B4: =LOOKUP(C4,LOOKUP!$A$1:$A$4,LOOKUP!$B$1:$B$4) -> I need to study this thoroughly before teaching this topic.
A5: explain how electron microscopy has increased our understanding of sub-cellular structures | B5: =LOOKUP(C5,LOOKUP!$A$1:$A$4,LOOKUP!$B$1:$B$4) -> I need to study this thoroughly before teaching this topic.
A6: explain the aseptic techniques used in culturing organisms | B6: =LOOKUP(C6,LOOKUP!$A$1:$A$4,LOOKUP!$B$1:$B$4) -> I need to study this thoroughly before teaching this topic.
A7: Cell biology - growth and development of cells
A8: describe the process of mitosis in growth, including the cell cycle | B8: =LOOKUP(C8,LOOKUP!$A$1:$A$4,LOOKUP!$B$1:$B$4) -> I need to study this thoroughly before teaching this topic.
A9: explain the importance of cell differentiation | B9: =LOOKUP(C9,LOOKUP!$A$1:$A$4,LOOKUP!$B$1:$B$4) -> I need to study this thoroughly before teaching this topic.
A10: describe cancer as the result of changes in cells that lead to uncontrolled growth and division | B10: =LOOKUP(C10,LOOKUP!$A$1:$A$4,LOOKUP!$B$1:$B$4) -> I need to study this thoroughly before teaching this topic.
A11: describe the function of stem cells in embryonic and adult animals and meristems in plants | B11: =LOOKUP(C11,LOOKUP!$A$1:$A$4,LOOKUP!$B$1:$B$4) -> I need to study this thoroughly before teaching this topic.
A12: discuss potential benefits and risks associated with the use of stem cells in medicine | B12: =LOOKUP(C12,LOOKUP!$A$1:$A$4,LOOKUP!$B$1:$B$4) -> I need to study this thoroughly before teaching this topic.
A13: explain the role of meiotic cell division in halving the chromosome number to form gametes | B13: =LOOKUP(C13,LOOKUP!$A$1:$A$4,LOOKUP!$B$1:$B$4) -> I need to study this thoroughly before teaching this topic.
A14: Cell biology - cell metabolism
A15: explain the mechanism of enzyme action including the active site, enzyme specificity and factors affecting the rate of enzymatic reaction | B15: =LOOKUP(C15,LOOKUP!$A$1:$A$4,LOOKUP!$B$1:$B$4) -> I need to study this thoroughly before teaching this topic.
A16: describe cellular respiration as an exothermic reaction which is continuously occurring in all living cells | B16: =LOOKUP(C16,LOOKUP!$A$1:$A$4,LOOKUP!$B$1:$B$4) -> I need to study this thoroughly before teaching this topic.
A17: compare the processes of aerobic and anaerobic respiration | B17: =LOOKUP(C17,LOOKUP!$A$1:$A$4,LOOKUP!$B$1:$B$4) -> I need to study this thoroughly before teaching this topic.
A18: explain the importance of sugars, amino acids, fatty acids and glycerol in the synthesis and breakdown of carbohydrates, lipids and proteins | B18: =LOOKUP(C18,LOOKUP!$A$1:$A$4,LOOKUP!$B$1:$B$4) -> I need to study this thoroughly before teaching this topic.
A19: Cell biology - use of mathematics
A20: demonstrate an understanding of number, size and scale and the quantitative relationship between units (2a and 2h) | B20: =LOOKUP(C20,LOOKUP!$A$1:$A$4,LOOKUP!$B$1:$B$4) -> I need to study this thoroughly before teaching this topic.
A21: use estimations and explain when they should be used (1d) | B21: =LOOKUP(C21,LOOKUP!$A$1:$A$4,LOOKUP!$B$1:$B$4) -> I need to study this thoroughly before teaching this topic.
A22: carry out rate calculations for chemical reactions (1a and 1c) | B22: =LOOKUP(C22,LOOKUP!$A$1:$A$4,LOOKUP!$B$1:$B$4) -> I need to study this thoroughly before teaching this topic.
A23: calculate with numbers written in standard form (1b) | B23: =LOOKUP(C23,LOOKUP!$A$1:$A$4,LOOKUP!$B$1:$B$4) -> I need to study this thoroughly before teaching this topic.
A24: calculate cross-sectional areas of bacterial cultures and clear agar jelly using πr2 (5c) | B24: =LOOKUP(C24,LOOKUP!$A$1:$A$4,LOOKUP!$B$1:$B$4) -> I need to study this thoroughly before teaching this topic.
A25: Transport systems - transport in cells
A26: explain how substances are transported into and out of cells through diffusion, osmosis and active transport | B26: =LOOKUP(C26,LOOKUP!$A$1:$A$4,LOOKUP!$B$1:$B$4) -> I need to study this thoroughly before teaching this topic.
A27: Transport systems - transport systems in multicellular organisms
A28: explain the need for exchange surfaces and a transport system in multicellular organisms in terms of surface area:volume ratio | B28: =LOOKUP(C28,LOOKUP!$A$1:$A$4,LOOKUP!$B$1:$B$4) -> I need to study this thoroughly before teaching this topic.
A29: describe some of the substances transported into and out of a range of organisms in terms of the requirements of those organisms, to include oxygen, carbon dioxide, water, dissolved food molecules, mineral ions and urea | B29: =LOOKUP(C29,LOOKUP!$A$1:$A$4,LOOKUP!$B$1:$B$4) -> I need to study this thoroughly before teaching this topic.
A30: Transport systems - human circulatory system
A31: describe the human circulatory system, including the relationship with the gaseous exchange system, and explain how the structure of the heart and the blood vessels are adapted to their functions | B31: =LOOKUP(C31,LOOKUP!$A$1:$A$4,LOOKUP!$B$1:$B$4) -> I need to study this thoroughly before teaching this topic.
A32: explain how red blood cells, white blood cells, platelets and plasma are adapted to their functions in the blood | B32: =LOOKUP(C32,LOOKUP!$A$1:$A$4,LOOKUP!$B$1:$B$4) -> I need to study this thoroughly before teaching this topic.
A33: Transport systems - transport systems in plants
A34: explain how the structure of xylem and phloem are adapted to their functions in the plant | B34: =LOOKUP(C34,LOOKUP!$A$1:$A$4,LOOKUP!$B$1:$B$4) -> I need to study this thoroughly before teaching this topic.
A35: explain how water and mineral ions are taken up by plants, relating the structure of the root hair cells to their function | B35: =LOOKUP(C35,LOOKUP!$A$1:$A$4,LOOKUP!$B$1:$B$4) -> I need to study this thoroughly before teaching this topic.
A36: describe the processes of transpiration and translocation, including the structure and function of the stomata | B36: =LOOKUP(C36,LOOKUP!$A$1:$A$4,LOOKUP!$B$1:$B$4) -> I need to study this thoroughly before teaching this topic.
A37: explain the effect of a variety of environmental factors on the rate of water uptake by a plant, to include light intensity, air movement and temperature | B37: =LOOKUP(C37,LOOKUP!$A$1:$A$4,LOOKUP!$B$1:$B$4) -> I need to study this thoroughly before teaching this topic.
A38: Transport systems - use of mathematics
A39: calculate surface area:volume ratios (1c) | B39: =LOOKUP(C39,LOOKUP!$A$1:$A$4,LOOKUP!$B$1:$B$4) -> I need to study this thoroughly before teaching this topic.
A40: use simple compound measures such as rate (1a, 1c) | B40: =LOOKUP(C40,LOOKUP!$A$1:$A$4,LOOKUP!$B$1:$B$4) -> I need to study this thoroughly before teaching this topic.
...

Sheet KS4 Chem
A1: KEY STAGE 4 - Chemistry
A2: GCSE chemistry specifications should require students to: | B2: Subject Knowledge Do you understand this? | C2: Pre- course | D2: AP2 | E2: AP4 | F2: AP6 | G2: Pedagogical content knowledge, including misconceptions and teaching strategies to elicit and address them
A3: Atomic structure and the Periodic Table - a simple model of the atom, relative atomic mass, electronic charge and isotopes
A4: describe the atom as a positively charged nucleus surrounded by negatively charged electrons, with the nuclear radius much smaller than that of the atom and with most of the mass in the nucleus | B4: =LOOKUP(C4,LOOKUP!$A$1:$A$4,LOOKUP!$B$1:$B$4) -> I need to study this thoroughly before teaching this topic.
A5: recall the typical size (order of magnitude) of atoms and small molecules | B5: =LOOKUP(C5,LOOKUP!$A$1:$A$4,LOOKUP!$B$1:$B$4) -> I need to study this thoroughly before teaching this topic.
A6: describe how and why the atomic model has changed over time | B6: =LOOKUP(C6,LOOKUP!$A$1:$A$4,LOOKUP!$B$1:$B$4) -> I need to study this thoroughly before teaching this topic.
A7: recall relative charges and approximate relative masses of protons, neutrons and electrons | B7: =LOOKUP(C7,LOOKUP!$A$1:$A$4,LOOKUP!$B$1:$B$4) -> I need to study this thoroughly before teaching this topic.
A8: calculate numbers of protons, neutrons and electrons in atoms and ions, given atomic number and mass number of isotopes | B8: =LOOKUP(C8,LOOKUP!$A$1:$A$4,LOOKUP!$B$1:$B$4) -> I need to study this thoroughly before teaching this topic.
A9: Atomic structure and the Periodic Table - the modern Periodic Table
A10: explain how the position of an element in the Periodic Table is related to the arrangement of electrons in its atoms and hence to its atomic number | B10: =LOOKUP(C10,LOOKUP!$A$1:$A$4,LOOKUP!$B$1:$B$4) -> I need to study this thoroughly before teaching this topic.
A11: explain in terms of isotopes how this changes the arrangement proposed by Mendeleev | B11: =LOOKUP(C11,LOOKUP!$A$1:$A$4,LOOKUP!$B$1:$B$4) -> I need to study this thoroughly before teaching this topic.
A12: use the names and symbols of the first 20 elements, Groups 1, 7 and 0 and other common elements from a supplied Periodic Table to write formulae and balanced chemical equations where appropriate | B12: =LOOKUP(C12,LOOKUP!$A$1:$A$4,LOOKUP!$B$1:$B$4) -> I need to study this thoroughly before teaching this topic.
A13: explain how the reactions of elements are related to the arrangement of electrons in their atoms and hence to their atomic number | B13: =LOOKUP(C13,LOOKUP!$A$1:$A$4,LOOKUP!$B$1:$B$4) -> I need to study this thoroughly before teaching this topic.
A14: recall the simple properties of Groups 1, 7 and 0 | B14: =LOOKUP(C14,LOOKUP!$A$1:$A$4,LOOKUP!$B$1:$B$4) -> I need to study this thoroughly before teaching this topic.
A15: explain how observed simple properties of Groups 1, 7 and 0 depend on the outer shell of electrons of the atoms and predict properties from given trends down the groups | B15: =LOOKUP(C15,LOOKUP!$A$1:$A$4,LOOKUP!$B$1:$B$4) -> I need to study this thoroughly before teaching this topic.
A16: predict possible reactions and probable reactivity of elements from their positions in the Periodic Table | B16: =LOOKUP(C16,LOOKUP!$A$1:$A$4,LOOKUP!$B$1:$B$4) -> I need to study this thoroughly before teaching this topic.
A17: describe metals and non-metals and explain the differences between them on the basis of their characteristic physical and chemical properties | B17: =LOOKUP(C17,LOOKUP!$A$1:$A$4,LOOKUP!$B$1:$B$4) -> I need to study this thoroughly before teaching this topic.
A18: explain how the atomic structure of metals and non-metals relates to their position in the Periodic Table | B18: =LOOKUP(C18,LOOKUP!$A$1:$A$4,LOOKUP!$B$1:$B$4) -> I need to study this thoroughly before teaching this topic.
A19: Atomic structure and the Periodic Table - properties of transition metals
A20: recall the general properties of transition metals (melting point, density, reactivity, formation of coloured ions with different charges and uses as catalysts) and exemplify these by reference to a small number of transition metals | B20: =LOOKUP(C20,LOOKUP!$A$1:$A$4,LOOKUP!$B$1:$B$4) -> I need to study this thoroughly before teaching this topic.
A21: Structure, bonding and the properties of matter - states of matter and change of state in terms of particle kinetics, energy transfers and the relative strength of chemical bonds and intermolecular forces
A22: recall and explain the main features of the particle model in terms of the states of matter and change of state, distinguishing between physical and chemical changes | B22: =LOOKUP(C22,LOOKUP!$A$1:$A$4,LOOKUP!$B$1:$B$4) -> I need to study this thoroughly before teaching this topic.
A23: explain the limitations of the particle model in relation to changes of state when particles are represented by inelastic spheres | B23: =LOOKUP(C23,LOOKUP!$A$1:$A$4,LOOKUP!$B$1:$B$4) -> I need to study this thoroughly before teaching this topic.
A24: use ideas about energy transfers and the relative strength of chemical bonds and intermolecular forces to explain the different temperatures at which changes of state occur | B24: =LOOKUP(C24,LOOKUP!$A$1:$A$4,LOOKUP!$B$1:$B$4) -> I need to study this thoroughly before teaching this topic.
A25: use data to predict states of substances under given conditions | B25: =LOOKUP(C25,LOOKUP!$A$1:$A$4,LOOKUP!$B$1:$B$4) -> I need to study this thoroughly before teaching this topic.
A26: Structure, bonding and the properties of matter - different kinds of chemical bonds: ionic, covalent and metallic bonding
A27: describe and compare the nature and arrangement of chemical bonds in ionic compounds, simple molecules, giant covalent structures, polymers and metals | B27: =LOOKUP(C27,LOOKUP!$A$1:$A$4,LOOKUP!$B$1:$B$4) -> I need to study this thoroughly before teaching this topic.
A28: explain chemical bonding in terms of electrostatic forces and the transfer or sharing of electrons | B28: =LOOKUP(C28,LOOKUP!$A$1:$A$4,LOOKUP!$B$1:$B$4) -> I need to study this thoroughly before teaching this topic.
A29: construct dot and cross diagrams for simple ionic and covalent substances | B29: =LOOKUP(C29,LOOKUP!$A$1:$A$4,LOOKUP!$B$1:$B$4) -> I need to study this thoroughly before teaching this topic.
A30: describe the limitations of particular representations and models to include dot and cross diagrams, ball and stick models and two and three dimensional representations | B30: =LOOKUP(C30,LOOKUP!$A$1:$A$4,LOOKUP!$B$1:$B$4) -> I need to study this thoroughly before teaching this topic.
A31: explain how the bulk properties of materials are related to the different types of bonds they contain, their bond strengths in relation to intermolecular forces and the ways in which their bonds are arranged, recognising that the atoms themselves do not have these properties | B31: =LOOKUP(C31,LOOKUP!$A$1:$A$4,LOOKUP!$B$1:$B$4) -> I need to study this thoroughly before teaching this topic.
A32: Structure, bonding and the properties of matter - structure and bonding of carbon
A33: recall that carbon can form four covalent bonds | B33: =LOOKUP(C33,LOOKUP!$A$1:$A$4,LOOKUP!$B$1:$B$4) -> I need to study this thoroughly before teaching this topic.
A34: explain that the vast array of natural and synthetic organic compounds occur due to the ability of carbon to form families of similar compounds, chains and rings | B34: =LOOKUP(C34,LOOKUP!$A$1:$A$4,LOOKUP!$B$1:$B$4) -> I need to study this thoroughly before teaching this topic.
A35: explain the properties of diamond, graphite, fullerenes and graphene in terms of their structures and bonding | B35: =LOOKUP(C35,LOOKUP!$A$1:$A$4,LOOKUP!$B$1:$B$4) -> I need to study this thoroughly before teaching this topic.
A36: Structure, bonding and the properties of matter - bulk and surface properties of matter including nanoparticles
A37: compare 'nano' dimensions to typical dimensions of atoms and molecules | B37: =LOOKUP(C37,LOOKUP!$A$1:$A$4,LOOKUP!$B$1:$B$4) -> I need to study this thoroughly before teaching this topic.
A38: describe the surface area to volume relationship for different-sized particles and describe how this affects properties | B38: =LOOKUP(C38,LOOKUP!$A$1:$A$4,LOOKUP!$B$1:$B$4) -> I need to study this thoroughly before teaching this topic.
A39: describe how the properties of nanoparticulate materials are related to their uses | B39: =LOOKUP(C39,LOOKUP!$A$1:$A$4,LOOKUP!$B$1:$B$4) -> I need to study this thoroughly before teaching this topic.
A40: explain the possible risks associated with some nanoparticulate materials | B40: =LOOKUP(C40,LOOKUP!$A$1:$A$4,LOOKUP!$B$1:$B$4) -> I need to study this thoroughly before teaching this topic.
...

Sheet KS4 Phys
A1: KEY STAGE 4 - Physics
A2: GCSE physics specifications should require students to: | B2: Subject Knowledge Do you understand this? | C2: Pre- course | D2: AP2 | E2: AP4 | F2: AP6 | G2: Pedagogical content knowledge, including misconceptions and teaching strategies to elicit and address them
A3: Energy - energy changes in a system, and in the ways energy is stored before and after such changes
A4: calculate the amounts of energy associated with a moving body, a stretched spring, and an object raised above ground level | B4: =LOOKUP(C4,LOOKUP!$A$1:$A$4,LOOKUP!$B$1:$B$4) -> I need to study this thoroughly before teaching this topic.
A5: describe and calculate the changes in energy involved when a system is changed by heating (in terms of temperature change and specific heat capacity), by work done by forces and by work done when a current flows | B5: =LOOKUP(C5,LOOKUP!$A$1:$A$4,LOOKUP!$B$1:$B$4) -> I need to study this thoroughly before teaching this topic.
A6: explain, with reference to examples, the definition of power as the rate at which energy is transferred | B6: =LOOKUP(C6,LOOKUP!$A$1:$A$4,LOOKUP!$B$1:$B$4) -> I need to study this thoroughly before teaching this topic.
A7: describe all the changes involved in the way energy is stored when a system changes, for common situations: appropriate examples might be an object projected upwards or up a slope, a moving object hitting an obstacle, an object being accelerated by a constant force, a vehicle slowing down, bringing water to a boil in an electric kettle | B7: =LOOKUP(C7,LOOKUP!$A$1:$A$4,LOOKUP!$B$1:$B$4) -> I need to study this thoroughly before teaching this topic.
A8: describe, with examples, the relationship between the power ratings for domestic electrical appliances and the changes in stored energy when they are in use | B8: =LOOKUP(C8,LOOKUP!$A$1:$A$4,LOOKUP!$B$1:$B$4) -> I need to study this thoroughly before teaching this topic.
A9: Energy - conservation, dissipation and national and global energy sources
A10: describe with examples where there are energy transfers in a system, that there is no net change to the total energy of a closed system (qualitative only) | B10: =LOOKUP(C10,LOOKUP!$A$1:$A$4,LOOKUP!$B$1:$B$4) -> I need to study this thoroughly before teaching this topic.
A11: describe, with examples, how in all system changes, energy is dissipated, so that it is stored in less useful ways | B11: =LOOKUP(C11,LOOKUP!$A$1:$A$4,LOOKUP!$B$1:$B$4) -> I need to study this thoroughly before teaching this topic.
A12: explain ways of reducing unwanted energy transfer e.g. through lubrication, thermal insulation; describe the effects, on the rate of cooling of a building, of thickness and thermal conductivity of its walls (qualitative only) | B12: =LOOKUP(C12,LOOKUP!$A$1:$A$4,LOOKUP!$B$1:$B$4) -> I need to study this thoroughly before teaching this topic.
A13: calculate energy efficiency for any energy transfer, and describe ways to increase efficiency | B13: =LOOKUP(C13,LOOKUP!$A$1:$A$4,LOOKUP!$B$1:$B$4) -> I need to study this thoroughly before teaching this topic.
A14: describe the main energy sources available for use on Earth (including fossil fuels, nuclear fuel, bio-fuel, wind, hydro-electricity, the tides and the Sun), compare the ways in which they are used and distinguish between renewable and non-renewable sources | B14: =LOOKUP(C14,LOOKUP!$A$1:$A$4,LOOKUP!$B$1:$B$4) -> I need to study this thoroughly before teaching this topic.
A15: explain patterns and trends in the use of energy resources | B15: =LOOKUP(C15,LOOKUP!$A$1:$A$4,LOOKUP!$B$1:$B$4) -> I need to study this thoroughly before teaching this topic.
A16: Energy - use of mathematics
A17: recalling or selecting the relevant equations for mechanical, electrical, and thermal processes; thereby express in quantitative form and on a common scale the overall redistribution of energy in the system (1a, 1c, 3c) | B17: =LOOKUP(C17,LOOKUP!$A$1:$A$4,LOOKUP!$B$1:$B$4) -> I need to study this thoroughly before teaching this topic.
A18: Forces - forces and their interactions
A19: recall examples of ways in which objects interact: by gravity, electrostatics, magnetism and by contact (including normal contact force and friction), and describe how such examples involve interactions between pairs of objects which produce a force on each object; represent such forces as vectors | B19: =LOOKUP(C19,LOOKUP!$A$1:$A$4,LOOKUP!$B$1:$B$4) -> I need to study this thoroughly before teaching this topic.
A20: define weight, describe how it is measured and describe the relationship between the weight of that body and the gravitational field strength | B20: =LOOKUP(C20,LOOKUP!$A$1:$A$4,LOOKUP!$B$1:$B$4) -> I need to study this thoroughly before teaching this topic.
A21: describe examples of the forces acting on an isolated solid object or system; describe, using free body diagrams, examples where several forces lead to a resultant force on an object and the special case of balanced forces when the resultant force is zero (qualitative only) | B21: =LOOKUP(C21,LOOKUP!$A$1:$A$4,LOOKUP!$B$1:$B$4) -> I need to study this thoroughly before teaching this topic.
A22: explain, with examples, that to stretch, bend or compress an object, more than one force has to be applied | B22: =LOOKUP(C22,LOOKUP!$A$1:$A$4,LOOKUP!$B$1:$B$4) -> I need to study this thoroughly before teaching this topic.
A23: describe the difference between elastic and inelastic distortions caused by stretching forces; calculate the work done in stretching; describe the relationship between force and extension for a spring and other simple systems; describe the difference between linear and non-linear relationships between force and extension, and calculate a spring constant in linear cases | B23: =LOOKUP(C23,LOOKUP!$A$1:$A$4,LOOKUP!$B$1:$B$4) -> I need to study this thoroughly before teaching this topic.
A24: Forces - work done as force x distance, energy transfer
A25: use the relationship between work done, force, and distance moved along the line of action of the force and describe the energy transfer involved | B25: =LOOKUP(C25,LOOKUP!$A$1:$A$4,LOOKUP!$B$1:$B$4) -> I need to study this thoroughly before teaching this topic.
A26: Forces - pressure and pressure differences in fluids
A27: recall that the pressure in fluids causes a force normal to any surface, and use the relationship between the force, the pressure, and the area in contact | B27: =LOOKUP(C27,LOOKUP!$A$1:$A$4,LOOKUP!$B$1:$B$4) -> I need to study this thoroughly before teaching this topic.
A28: describe a simple model of the Earth’s atmosphere and of atmospheric pressure, and explain why atmospheric pressure varies with height above the surface | B28: =LOOKUP(C28,LOOKUP!$A$1:$A$4,LOOKUP!$B$1:$B$4) -> I need to study this thoroughly before teaching this topic.
A29: explain why pressure in a liquid varies with depth and density and how this leads to an upwards force on a partially submerged object; describe the factors which influence floating and sinking | B29: =LOOKUP(C29,LOOKUP!$A$1:$A$4,LOOKUP!$B$1:$B$4) -> I need to study this thoroughly before teaching this topic.
A30: Forces - moments, levers and gears
A31: describe examples in which forces cause rotation; define and calculate the moment of the force in such examples. | B31: =LOOKUP(C31,LOOKUP!$A$1:$A$4,LOOKUP!$B$1:$B$4) -> I need to study this thoroughly before teaching this topic.
A32: explain how levers and gears transmit the rotational effects of forces | B32: =LOOKUP(C32,LOOKUP!$A$1:$A$4,LOOKUP!$B$1:$B$4) -> I need to study this thoroughly before teaching this topic.
A33: Forces - use of mathematics
A34: use vector diagrams to illustrate resolution of forces, a net force, and equilibrium situations (scale drawings only) (4a, 5a, 5b) | B34: =LOOKUP(C34,LOOKUP!$A$1:$A$4,LOOKUP!$B$1:$B$4) -> I need to study this thoroughly before teaching this topic.
A35: calculate relevant values of stored energy and energy transfers; convert between newton-metres and joules (1c, 3c). | B35: =LOOKUP(C35,LOOKUP!$A$1:$A$4,LOOKUP!$B$1:$B$4) -> I need to study this thoroughly before teaching this topic.
A36: calculate the differences in pressure at different depths in a liquid (1c, 3c) | B36: =LOOKUP(C36,LOOKUP!$A$1:$A$4,LOOKUP!$B$1:$B$4) -> I need to study this thoroughly before teaching this topic.
A37: Forces and motion - speed and velocity, speed as distance over time; acceleration; distance-time and velocity-time graphs
A38: explain the vector-scalar distinction as it applies to displacement, distance, velocity and speed | B38: =LOOKUP(C38,LOOKUP!$A$1:$A$4,LOOKUP!$B$1:$B$4) -> I need to study this thoroughly before teaching this topic.
A39: recall typical speeds encountered in everyday experience for wind and sound, and for walking, running, cycling and other transportation systems; recall the acceleration in free fall and estimate the magnitudes of everyday accelerations | B39: =LOOKUP(C39,LOOKUP!$A$1:$A$4,LOOKUP!$B$1:$B$4) -> I need to study this thoroughly before teaching this topic.
A40: explain with examples that motion in a circular orbit involves constant speed but changing velocity (qualitative only) | B40: =LOOKUP(C40,LOOKUP!$A$1:$A$4,LOOKUP!$B$1:$B$4) -> I need to study this thoroughly before teaching this topic.
...
